BEGIN:VCALENDAR
VERSION:2.0
PRODID:-//wp-events-plugin.com//7.2.3.1//EN
BEGIN:VEVENT
UID:455@roma2pass.it
DTSTART:20260429T173000Z
DTEND:20260429T193000Z
DTSTAMP:20260422T221411Z
URL:https://www.roma2pass.it/eventi/scienziati-e-scrittori-i-premi-nobel-n
 el-quartiere-nomentano/
SUMMARY:Scienziati e scrittori\, i premi Nobel nel quartiere Nomentano
DESCRIPTION:[caption id="attachment_73664" align="alignright" width="210"] 
 Vista su via Bosio\, al n.15          casa di Luigi Pirandello[/capti
 on]\n\nLa passeggiata si svolge nel quartiere Nomentano\, zona suburbana o
 ccupata ancora a fine ‘800 da estese ville nobiliari\, di cui oggi riman
 e la memoria quasi soltanto nella toponomastica (Villa Massimo\, villa Pat
 rizi\, Villa Ricotti\, ecc.). Percorrendo l’area compresa fra via Nomen
 tana\, via di Villa Massimo\, piazza Bologna\, via Catanzaro\, via Belluno
 \, potremo individuare le abitazioni di rilevanti personalità italiane ch
 e hanno meritato il premio Nobel.\n\nLa prima dimora che incontriamo in vi
 a Antonio Bosio\, è la casa di Luigi Pirandello\, (Nobel 1934\, per la le
 tteratura) che lui descriveva: “Il mio studio è tra i giardini. Cinque 
 grandi finestre (…) sul lago di sole d’un magnifico terrazzo a mezzogi
 orno…”.  A seguire\, di incamminiamo verso l’abitazione di Daniele 
 Bovet (1957\, per la medicina)\, dai sulfamidici agli antistaminici\, graz
 ie al lavoro insieme alla moglie Filomena Nitti\, non insignita dall’ono
 rificenza!\n\n[caption id="attachment_73666" align="alignright" width="214
 "] Al n. 28 di Via Catanzaro\, una delle targhe commemorative di Enrico Fe
 rmi poste a Roma[/caption]\n\nProseguiamo in direzione di via Catanzaro\, 
 dove incontriamo l’ultima abitazione romana di Enrico Fermi (1938\, per 
 la fisica)  dove visse insieme a sua moglie Laura Fermi\, laureata in sci
 enze naturali\,  donna straordinaria\, attivista e pacifista.\n\nInfine\,
  in viale di Villa Massimo\, troveremo la dimora di Rita Levi Montalcini (
 1986\, per la medicina) dove abitava insieme alla sorella gemella Paola\, 
 Rita Levi Montalcini.\n\nUn accenno anche alla residenza di Grazia Deledda
  (Nobel 1926 per la letteratura)\, oggi scomparsa\, e alla casa di riposo 
 per artisti fondata da Eleonora Duse in via di villa Ricotti.\n\nCi accomp
 agna in questa visita il socio LUIGI MUNZI\n\n 	La visita è riservata ai 
 soci di AMUSE APS in regola con l’iscrizione.             \n 	E
 ’ possibile iscriversi o rinnovare anche in loco prima della passeggiata
  oppure clicca qui.\n 	E’ disponibile un sistema di amplificazione asco
 lto per una migliore fruizione della visita\, contributo € 2.00\n 	Qualo
 ra il meteo avverso ci obbligasse a rinviare la passeggiata\, sarete conta
 ttati entro le ore 14.00 di mercoledì 22 aprile p.v. \n\nLe passeggiate 
 Roma2pass e la Banca Dati Roma2pass sono iniziative dell’Associazione AM
 USE APS
CATEGORIES:Eventi Roma2pass,Passeggiate urbane R2p
LOCATION:via Nomentana angolo via Bosio\, Via Nomentana \, Roma\, Roma\, 00
 161\, Lazio\, Italia
GEO:41.917174;12.513388
X-APPLE-STRUCTURED-LOCATION;VALUE=URI;X-ADDRESS=Via Nomentana \, Roma\, Rom
 a\, 00161\, Lazio\, Italia;X-APPLE-RADIUS=100;X-TITLE=via Nomentana angolo
  via Bosio:geo:41.917174,12.513388
END:VEVENT
END:VCALENDAR